<?xml version="1.0" encoding="UTF-8"?>
<Capabilities xmlns="http://www.opengis.net/wmts/1.0"
xmlns:ows="http://www.opengis.net/ows/1.1"
xmlns:xlink="http://www.w3.org/1999/xlink"
xmlns:xsi="http://www.w3.org/2001/XMLSchema-instance"
xmlns:gml="http://www.opengis.net/gml"
xsi:schemaLocation="http://www.opengis.net/wmts/1.0 http://schemas.opengis.net/wmts/1.0/wmtsGetCapabilities_response.xsd"
version="1.0.0">
<!-- Service Identification --> <ows:ServiceIdentification>
<ows:Title>Hosted_Imagen_de_cultivo_de_arándanos</ows:Title>
<ows:ServiceType>OGC WMTS</ows:ServiceType>
<ows:ServiceTypeVersion>1.0.0</ows:ServiceTypeVersion>
</ows:ServiceIdentification> <!-- Operations Metadata --> <ows:OperationsMetadata>
<ows:Operation name="GetCapabilities">
<ows:DCP>
<ows:HTTP>
<ows:Get xlink:href="https://sp.telematica.com.pe/arcgis_server/rest/services/Hosted/Imagen_de_cultivo_de_ar%C3%A1ndanos/MapServer/WMTS/1.0.0/WMTSCapabilities.xml">
<ows:Constraint name="GetEncoding">
<ows:AllowedValues>
<ows:Value>RESTful</ows:Value>
</ows:AllowedValues>
</ows:Constraint>
</ows:Get>
<!-- add KVP binding in 10.1 -->
<ows:Get xlink:href="https://sp.telematica.com.pe/arcgis_server/rest/services/Hosted/Imagen_de_cultivo_de_ar%C3%A1ndanos/MapServer/WMTS?">
<ows:Constraint name="GetEncoding">
<ows:AllowedValues>
<ows:Value>KVP</ows:Value>
</ows:AllowedValues>
</ows:Constraint>
</ows:Get>
</ows:HTTP>
</ows:DCP>
</ows:Operation>
<ows:Operation name="GetTile">
<ows:DCP>
<ows:HTTP>
<ows:Get xlink:href="https://sp.telematica.com.pe/arcgis_server/rest/services/Hosted/Imagen_de_cultivo_de_ar%C3%A1ndanos/MapServer/WMTS/tile/1.0.0/">
<ows:Constraint name="GetEncoding">
<ows:AllowedValues>
<ows:Value>RESTful</ows:Value>
</ows:AllowedValues>
</ows:Constraint>
</ows:Get>
<ows:Get xlink:href="https://sp.telematica.com.pe/arcgis_server/rest/services/Hosted/Imagen_de_cultivo_de_ar%C3%A1ndanos/MapServer/WMTS?">
<ows:Constraint name="GetEncoding">
<ows:AllowedValues>
<ows:Value>KVP</ows:Value>
</ows:AllowedValues>
</ows:Constraint>
</ows:Get>
</ows:HTTP>
</ows:DCP>
</ows:Operation>
</ows:OperationsMetadata> <Contents>
<!--Layer--> <Layer>
<ows:Title>Hosted_Imagen_de_cultivo_de_arándanos</ows:Title> <ows:Identifier>Hosted_Imagen_de_cultivo_de_arándanos</ows:Identifier>
<ows:BoundingBox crs="urn:ogc:def:crs:EPSG::32610">
<ows:LowerCorner>542678.885590601 5372678.809698235</ows:LowerCorner>
<ows:UpperCorner>542696.9399111874 5372749.53600816</ows:UpperCorner>
</ows:BoundingBox> <ows:WGS84BoundingBox crs="urn:ogc:def:crs:OGC:2:84">
<ows:LowerCorner>-122.42219096521123 48.50577481693701</ows:LowerCorner>
<ows:UpperCorner>-122.42193931345962 48.50641229324387</ows:UpperCorner>
</ows:WGS84BoundingBox>
<Style isDefault="true">
<ows:Title>Default Style</ows:Title>
<ows:Identifier>default</ows:Identifier>
</Style>
<Format>image/jpgpng</Format>
<TileMatrixSetLink>
<TileMatrixSet>default028mm</TileMatrixSet>
</TileMatrixSetLink>
<ResourceURL format="image/jpgpng" resourceType="tile" template="https://sp.telematica.com.pe/arcgis_server/rest/services/Hosted/Imagen_de_cultivo_de_ar%C3%A1ndanos/MapServer/WMTS/tile/1.0.0/Hosted_Imagen_de_cultivo_de_arándanos/{Style}/{TileMatrixSet}/{TileMatrix}/{TileRow}/{TileCol}" />
</Layer> <!--TileMatrixSet-->
<TileMatrixSet>
<ows:Title>TileMatrix using 0.28mm</ows:Title>
<ows:Abstract>The tile matrix set that has scale values calculated based on the dpi defined by OGC specification (dpi assumes 0.28mm as the physical distance of a pixel).</ows:Abstract> <ows:Identifier>default028mm</ows:Identifier>
<ows:SupportedCRS>urn:ogc:def:crs:EPSG::32610</ows:SupportedCRS>
<TileMatrix>
<ows:Identifier>0</ows:Identifier>
<ScaleDenominator>2.7896104751722413E8</ScaleDenominator>
<TopLeftCorner>-9497963.94301857 9997963.94301857</TopLeftCorner> <TileWidth>256</TileWidth> <TileHeight>256</TileHeight>
<MatrixWidth>1</MatrixWidth> <MatrixHeight>1</MatrixHeight>
</TileMatrix>
<TileMatrix>
<ows:Identifier>1</ows:Identifier>
<ScaleDenominator>1.3948052375861207E8</ScaleDenominator>
<TopLeftCorner>-9497963.94301857 9997963.94301857</TopLeftCorner> <TileWidth>256</TileWidth> <TileHeight>256</TileHeight>
<MatrixWidth>2</MatrixWidth> <MatrixHeight>1</MatrixHeight>
</TileMatrix>
<TileMatrix>
<ows:Identifier>2</ows:Identifier>
<ScaleDenominator>6.974026187930603E7</ScaleDenominator>
<TopLeftCorner>-9497963.94301857 9997963.94301857</TopLeftCorner> <TileWidth>256</TileWidth> <TileHeight>256</TileHeight>
<MatrixWidth>3</MatrixWidth> <MatrixHeight>1</MatrixHeight>
</TileMatrix>
<TileMatrix>
<ows:Identifier>3</ows:Identifier>
<ScaleDenominator>3.487013093965302E7</ScaleDenominator>
<TopLeftCorner>-9497963.94301857 9997963.94301857</TopLeftCorner> <TileWidth>256</TileWidth> <TileHeight>256</TileHeight>
<MatrixWidth>5</MatrixWidth> <MatrixHeight>2</MatrixHeight>
</TileMatrix>
<TileMatrix>
<ows:Identifier>4</ows:Identifier>
<ScaleDenominator>1.743506546982651E7</ScaleDenominator>
<TopLeftCorner>-9497963.94301857 9997963.94301857</TopLeftCorner> <TileWidth>256</TileWidth> <TileHeight>256</TileHeight>
<MatrixWidth>9</MatrixWidth> <MatrixHeight>4</MatrixHeight>
</TileMatrix>
<TileMatrix>
<ows:Identifier>5</ows:Identifier>
<ScaleDenominator>8717532.734913254</ScaleDenominator>
<TopLeftCorner>-9497963.94301857 9997963.94301857</TopLeftCorner> <TileWidth>256</TileWidth> <TileHeight>256</TileHeight>
<MatrixWidth>17</MatrixWidth> <MatrixHeight>8</MatrixHeight>
</TileMatrix>
<TileMatrix>
<ows:Identifier>6</ows:Identifier>
<ScaleDenominator>4358766.367456627</ScaleDenominator>
<TopLeftCorner>-9497963.94301857 9997963.94301857</TopLeftCorner> <TileWidth>256</TileWidth> <TileHeight>256</TileHeight>
<MatrixWidth>33</MatrixWidth> <MatrixHeight>15</MatrixHeight>
</TileMatrix>
<TileMatrix>
<ows:Identifier>7</ows:Identifier>
<ScaleDenominator>2179383.1837283135</ScaleDenominator>
<TopLeftCorner>-9497963.94301857 9997963.94301857</TopLeftCorner> <TileWidth>256</TileWidth> <TileHeight>256</TileHeight>
<MatrixWidth>65</MatrixWidth> <MatrixHeight>30</MatrixHeight>
</TileMatrix>
<TileMatrix>
<ows:Identifier>8</ows:Identifier>
<ScaleDenominator>1089691.5918641568</ScaleDenominator>
<TopLeftCorner>-9497963.94301857 9997963.94301857</TopLeftCorner> <TileWidth>256</TileWidth> <TileHeight>256</TileHeight>
<MatrixWidth>129</MatrixWidth> <MatrixHeight>60</MatrixHeight>
</TileMatrix>
<TileMatrix>
<ows:Identifier>9</ows:Identifier>
<ScaleDenominator>544845.7959320784</ScaleDenominator>
<TopLeftCorner>-9497963.94301857 9997963.94301857</TopLeftCorner> <TileWidth>256</TileWidth> <TileHeight>256</TileHeight>
<MatrixWidth>258</MatrixWidth> <MatrixHeight>119</MatrixHeight>
</TileMatrix>
<TileMatrix>
<ows:Identifier>10</ows:Identifier>
<ScaleDenominator>272422.8979660392</ScaleDenominator>
<TopLeftCorner>-9497963.94301857 9997963.94301857</TopLeftCorner> <TileWidth>256</TileWidth> <TileHeight>256</TileHeight>
<MatrixWidth>515</MatrixWidth> <MatrixHeight>237</MatrixHeight>
</TileMatrix>
<TileMatrix>
<ows:Identifier>11</ows:Identifier>
<ScaleDenominator>136211.4489830196</ScaleDenominator>
<TopLeftCorner>-9497963.94301857 9997963.94301857</TopLeftCorner> <TileWidth>256</TileWidth> <TileHeight>256</TileHeight>
<MatrixWidth>1029</MatrixWidth> <MatrixHeight>474</MatrixHeight>
</TileMatrix>
<TileMatrix>
<ows:Identifier>12</ows:Identifier>
<ScaleDenominator>68105.7244915098</ScaleDenominator>
<TopLeftCorner>-9497963.94301857 9997963.94301857</TopLeftCorner> <TileWidth>256</TileWidth> <TileHeight>256</TileHeight>
<MatrixWidth>2057</MatrixWidth> <MatrixHeight>948</MatrixHeight>
</TileMatrix>
<TileMatrix>
<ows:Identifier>13</ows:Identifier>
<ScaleDenominator>34052.8622457549</ScaleDenominator>
<TopLeftCorner>-9497963.94301857 9997963.94301857</TopLeftCorner> <TileWidth>256</TileWidth> <TileHeight>256</TileHeight>
<MatrixWidth>4114</MatrixWidth> <MatrixHeight>1895</MatrixHeight>
</TileMatrix>
<TileMatrix>
<ows:Identifier>14</ows:Identifier>
<ScaleDenominator>17026.43112287745</ScaleDenominator>
<TopLeftCorner>-9497963.94301857 9997963.94301857</TopLeftCorner> <TileWidth>256</TileWidth> <TileHeight>256</TileHeight>
<MatrixWidth>8227</MatrixWidth> <MatrixHeight>3790</MatrixHeight>
</TileMatrix>
<TileMatrix>
<ows:Identifier>15</ows:Identifier>
<ScaleDenominator>8513.215561438725</ScaleDenominator>
<TopLeftCorner>-9497963.94301857 9997963.94301857</TopLeftCorner> <TileWidth>256</TileWidth> <TileHeight>256</TileHeight>
<MatrixWidth>16454</MatrixWidth> <MatrixHeight>7580</MatrixHeight>
</TileMatrix>
<TileMatrix>
<ows:Identifier>16</ows:Identifier>
<ScaleDenominator>4256.607780719362</ScaleDenominator>
<TopLeftCorner>-9497963.94301857 9997963.94301857</TopLeftCorner> <TileWidth>256</TileWidth> <TileHeight>256</TileHeight>
<MatrixWidth>32908</MatrixWidth> <MatrixHeight>15160</MatrixHeight>
</TileMatrix>
<TileMatrix>
<ows:Identifier>17</ows:Identifier>
<ScaleDenominator>2128.303890359681</ScaleDenominator>
<TopLeftCorner>-9497963.94301857 9997963.94301857</TopLeftCorner> <TileWidth>256</TileWidth> <TileHeight>256</TileHeight>
<MatrixWidth>65816</MatrixWidth> <MatrixHeight>30319</MatrixHeight>
</TileMatrix>
<TileMatrix>
<ows:Identifier>18</ows:Identifier>
<ScaleDenominator>1064.1519451798406</ScaleDenominator>
<TopLeftCorner>-9497963.94301857 9997963.94301857</TopLeftCorner> <TileWidth>256</TileWidth> <TileHeight>256</TileHeight>
<MatrixWidth>131632</MatrixWidth> <MatrixHeight>60637</MatrixHeight>
</TileMatrix>
<TileMatrix>
<ows:Identifier>19</ows:Identifier>
<ScaleDenominator>532.0759725899203</ScaleDenominator>
<TopLeftCorner>-9497963.94301857 9997963.94301857</TopLeftCorner> <TileWidth>256</TileWidth> <TileHeight>256</TileHeight>
<MatrixWidth>263264</MatrixWidth> <MatrixHeight>121274</MatrixHeight>
</TileMatrix>
<TileMatrix>
<ows:Identifier>20</ows:Identifier>
<ScaleDenominator>266.03798629496015</ScaleDenominator>
<TopLeftCorner>-9497963.94301857 9997963.94301857</TopLeftCorner> <TileWidth>256</TileWidth> <TileHeight>256</TileHeight>
<MatrixWidth>526528</MatrixWidth> <MatrixHeight>242548</MatrixHeight>
</TileMatrix>
<TileMatrix>
<ows:Identifier>21</ows:Identifier>
<ScaleDenominator>133.01899314748007</ScaleDenominator>
<TopLeftCorner>-9497963.94301857 9997963.94301857</TopLeftCorner> <TileWidth>256</TileWidth> <TileHeight>256</TileHeight>
<MatrixWidth>1053055</MatrixWidth> <MatrixHeight>485096</MatrixHeight>
</TileMatrix>
<TileMatrix>
<ows:Identifier>22</ows:Identifier>
<ScaleDenominator>66.50949657374004</ScaleDenominator>
<TopLeftCorner>-9497963.94301857 9997963.94301857</TopLeftCorner> <TileWidth>256</TileWidth> <TileHeight>256</TileHeight>
<MatrixWidth>2106109</MatrixWidth> <MatrixHeight>970191</MatrixHeight>
</TileMatrix>
<TileMatrix>
<ows:Identifier>23</ows:Identifier>
<ScaleDenominator>33.25474828687002</ScaleDenominator>
<TopLeftCorner>-9497963.94301857 9997963.94301857</TopLeftCorner> <TileWidth>256</TileWidth> <TileHeight>256</TileHeight>
<MatrixWidth>4212217</MatrixWidth> <MatrixHeight>1940381</MatrixHeight>
</TileMatrix>
</TileMatrixSet>
</Contents>
<ServiceMetadataURL xlink:href="https://sp.telematica.com.pe/arcgis_server/rest/services/Hosted/Imagen_de_cultivo_de_ar%C3%A1ndanos/MapServer/WMTS/1.0.0/WMTSCapabilities.xml" /> </Capabilities>
